Package: affyPLM Version: 1.83.3 Command: /Library/Frameworks/R.framework/Resources/bin/R CMD INSTALL affyPLM StartedAt: 2025-02-19 15:05:08 -0500 (Wed, 19 Feb 2025) EndedAt: 2025-02-19 15:05:17 -0500 (Wed, 19 Feb 2025) EllapsedTime: 8.7 seconds RetCode: 0 Status: OK