Package: affyILM Version: 1.59.0 Command: E:\biocbuild\bbs-3.21-bioc\R\bin\R.exe CMD INSTALL affyILM StartedAt: 2025-02-20 15:38:36 -0500 (Thu, 20 Feb 2025) EndedAt: 2025-02-20 15:39:02 -0500 (Thu, 20 Feb 2025) EllapsedTime: 25.5 seconds RetCode: 0 Status: OK