Package: affyILM Version: 1.59.0 Command: /home/biocbuild/bbs-3.21-bioc/R/bin/R CMD check --install=check:affyILM.install-out.txt --library=/home/biocbuild/bbs-3.21-bioc/R/site-library --timings affyILM_1.59.0.tar.gz StartedAt: 2025-02-20 19:53:37 -0500 (Thu, 20 Feb 2025) EndedAt: 2025-02-20 19:55:10 -0500 (Thu, 20 Feb 2025) EllapsedTime: 93.2 seconds RetCode: 0 Status: OK CheckDir: affyILM.Rcheck Warnings: 0