Package: affyContam Version: 1.65.0 Command: rm -rf affyContam.buildbin-libdir && mkdir affyContam.buildbin-libdir && /Users/biocbuild/BBS/utils/build-universal.sh affyContam_1.65.0.tar.gz /Library/Frameworks/R.framework/Resources/bin/R affyContam.buildbin-libdir StartedAt: 2025-02-19 22:12:44 -0500 (Wed, 19 Feb 2025) EndedAt: 2025-02-19 22:12:46 -0500 (Wed, 19 Feb 2025) EllapsedTime: 2.1 seconds RetCode: 0 Status: OK PackageFile: affyContam_1.65.0.tgz PackageFileSize: 303.5 KiB