Package: affy Version: 1.85.1 Command: chmod a+r affy -R && E:\biocbuild\bbs-3.21-bioc\R\bin\R.exe CMD build --keep-empty-dirs --no-resave-data affy StartedAt: 2025-02-19 17:10:03 -0500 (Wed, 19 Feb 2025) EndedAt: 2025-02-19 17:12:05 -0500 (Wed, 19 Feb 2025) EllapsedTime: 122.6 seconds RetCode: 0 Status: OK PackageFile: affy_1.85.1.tar.gz PackageFileSize: 1.18 MiB