Package: affy Version: 1.85.1 Command: /home/biocbuild/bbs-3.21-bioc/R/bin/R CMD INSTALL affy StartedAt: 2025-02-19 15:12:36 -0500 (Wed, 19 Feb 2025) EndedAt: 2025-02-19 15:12:44 -0500 (Wed, 19 Feb 2025) EllapsedTime: 8.0 seconds RetCode: 0 Status: OK