Package: affy Version: 1.85.1 Command: /Library/Frameworks/R.framework/Resources/bin/R CMD check --install=check:affy.install-out.txt --library=/Library/Frameworks/R.framework/Resources/library --no-vignettes --timings affy_1.85.1.tar.gz StartedAt: 2025-02-19 18:45:42 -0500 (Wed, 19 Feb 2025) EndedAt: 2025-02-19 18:48:17 -0500 (Wed, 19 Feb 2025) EllapsedTime: 155.5 seconds RetCode: 0 Status: WARNINGS CheckDir: affy.Rcheck Warnings: 1