Package: affy Version: 1.85.1 Command: rm -rf affy.buildbin-libdir && mkdir affy.buildbin-libdir && /Users/biocbuild/BBS/utils/build-universal.sh affy_1.85.1.tar.gz /Library/Frameworks/R.framework/Resources/bin/R affy.buildbin-libdir StartedAt: 2025-02-20 00:19:44 -0500 (Thu, 20 Feb 2025) EndedAt: 2025-02-20 00:20:13 -0500 (Thu, 20 Feb 2025) EllapsedTime: 28.8 seconds RetCode: 0 Status: OK PackageFile: affy_1.85.1.tgz PackageFileSize: 1.995 MiB