Package: adductomicsR Version: 1.23.0 Command: E:\biocbuild\bbs-3.21-bioc\R\bin\R.exe CMD check --no-multiarch --install=check:adductomicsR.install-out.txt --library=E:\biocbuild\bbs-3.21-bioc\R\library --no-vignettes --timings adductomicsR_1.23.0.tar.gz StartedAt: 2025-02-20 22:39:05 -0500 (Thu, 20 Feb 2025) EndedAt: 2025-02-20 22:43:11 -0500 (Thu, 20 Feb 2025) EllapsedTime: 246.2 seconds RetCode: 0 Status: WARNINGS CheckDir: adductomicsR.Rcheck Warnings: 1