Package: adductomicsR Version: 1.23.0 Command: rm -rf adductomicsR.buildbin-libdir && mkdir adductomicsR.buildbin-libdir && E:\biocbuild\bbs-3.21-bioc\R\bin\R.exe CMD INSTALL --build --library=adductomicsR.buildbin-libdir adductomicsR_1.23.0.tar.gz StartedAt: 2025-02-21 07:29:55 -0500 (Fri, 21 Feb 2025) EndedAt: 2025-02-21 07:32:03 -0500 (Fri, 21 Feb 2025) EllapsedTime: 127.6 seconds RetCode: 0 Status: OK PackageFile: adductomicsR_1.23.0.zip PackageFileSize: 1.23 MiB