Package: adductomicsR Version: 1.23.0 Command: /Library/Frameworks/R.framework/Resources/bin/R CMD build --keep-empty-dirs --no-resave-data adductomicsR StartedAt: 2025-02-19 15:50:22 -0500 (Wed, 19 Feb 2025) EndedAt: 2025-02-19 15:52:27 -0500 (Wed, 19 Feb 2025) EllapsedTime: 124.9 seconds RetCode: 0 Status: OK PackageFile: adductomicsR_1.23.0.tar.gz PackageFileSize: 752 KiB