Package: adSplit Version: 1.77.0 Command: chmod a+r adSplit -R && E:\biocbuild\bbs-3.21-bioc\R\bin\R.exe CMD build --keep-empty-dirs --no-resave-data adSplit StartedAt: 2025-02-18 17:08:51 -0500 (Tue, 18 Feb 2025) EndedAt: 2025-02-18 17:11:04 -0500 (Tue, 18 Feb 2025) EllapsedTime: 133.1 seconds RetCode: 0 Status: OK PackageFile: adSplit_1.77.0.tar.gz PackageFileSize: 288 KiB