Package: adSplit Version: 1.77.0 Command: rm -rf adSplit.buildbin-libdir && mkdir adSplit.buildbin-libdir && E:\biocbuild\bbs-3.21-bioc\R\bin\R.exe CMD INSTALL --build --library=adSplit.buildbin-libdir adSplit_1.77.0.tar.gz StartedAt: 2025-02-20 07:13:01 -0500 (Thu, 20 Feb 2025) EndedAt: 2025-02-20 07:13:46 -0500 (Thu, 20 Feb 2025) EllapsedTime: 44.7 seconds RetCode: 0 Status: OK PackageFile: adSplit_1.77.0.zip PackageFileSize: 356.9 KiB