Package: adSplit Version: 1.77.0 Command: /Library/Frameworks/R.framework/Resources/bin/R CMD INSTALL adSplit StartedAt: 2025-02-18 15:35:24 -0500 (Tue, 18 Feb 2025) EndedAt: 2025-02-18 15:35:47 -0500 (Tue, 18 Feb 2025) EllapsedTime: 22.2 seconds RetCode: 0 Status: OK