Package: adSplit Version: 1.77.0 Command: /Library/Frameworks/R.framework/Resources/bin/R CMD build --keep-empty-dirs --no-resave-data adSplit StartedAt: 2025-02-19 15:50:22 -0500 (Wed, 19 Feb 2025) EndedAt: 2025-02-19 15:52:41 -0500 (Wed, 19 Feb 2025) EllapsedTime: 138.6 seconds RetCode: 0 Status: OK PackageFile: adSplit_1.77.0.tar.gz PackageFileSize: 536.6 KiB