Package: adSplit Version: 1.77.0 Command: /Library/Frameworks/R.framework/Resources/bin/R CMD check --install=check:adSplit.install-out.txt --library=/Library/Frameworks/R.framework/Resources/library --no-vignettes --timings adSplit_1.77.0.tar.gz StartedAt: 2025-02-18 18:01:49 -0500 (Tue, 18 Feb 2025) EndedAt: 2025-02-18 18:03:40 -0500 (Tue, 18 Feb 2025) EllapsedTime: 111.6 seconds RetCode: 0 Status: OK CheckDir: adSplit.Rcheck Warnings: 0