Package: acde Version: 1.37.0 Command: E:\biocbuild\bbs-3.21-bioc\R\bin\R.exe CMD check --no-multiarch --install=check:acde.install-out.txt --library=E:\biocbuild\bbs-3.21-bioc\R\library --no-vignettes --timings acde_1.37.0.tar.gz StartedAt: 2025-02-18 22:25:09 -0500 (Tue, 18 Feb 2025) EndedAt: 2025-02-18 22:26:42 -0500 (Tue, 18 Feb 2025) EllapsedTime: 93.2 seconds RetCode: 0 Status: OK CheckDir: acde.Rcheck Warnings: 0