Package: acde Version: 1.37.0 Command: /Library/Frameworks/R.framework/Resources/bin/R CMD INSTALL acde StartedAt: 2025-02-19 15:01:15 -0500 (Wed, 19 Feb 2025) EndedAt: 2025-02-19 15:01:16 -0500 (Wed, 19 Feb 2025) EllapsedTime: 1.7 seconds RetCode: 0 Status: OK