Package: acde Version: 1.37.0 Command: /Library/Frameworks/R.framework/Resources/bin/R CMD check --install=check:acde.install-out.txt --library=/Library/Frameworks/R.framework/Resources/library --no-vignettes --timings acde_1.37.0.tar.gz StartedAt: 2025-02-18 18:01:27 -0500 (Tue, 18 Feb 2025) EndedAt: 2025-02-18 18:01:53 -0500 (Tue, 18 Feb 2025) EllapsedTime: 26.3 seconds RetCode: 0 Status: OK CheckDir: acde.Rcheck Warnings: 0