Package: acde Version: 1.37.0 Command: /Library/Frameworks/R.framework/Resources/bin/R CMD build --keep-empty-dirs --no-resave-data acde StartedAt: 2025-02-18 15:32:31 -0500 (Tue, 18 Feb 2025) EndedAt: 2025-02-18 15:32:39 -0500 (Tue, 18 Feb 2025) EllapsedTime: 8.1 seconds RetCode: 0 Status: OK PackageFile: acde_1.37.0.tar.gz PackageFileSize: 8.877 MiB