Package: abseqR Version: 1.25.0 Command: /home/biocbuild/bbs-3.21-bioc/R/bin/R CMD INSTALL abseqR StartedAt: 2025-02-20 15:19:47 -0500 (Thu, 20 Feb 2025) EndedAt: 2025-02-20 15:19:58 -0500 (Thu, 20 Feb 2025) EllapsedTime: 10.9 seconds RetCode: 0 Status: OK