Package: abseqR Version: 1.25.0 Command: rm -rf abseqR.buildbin-libdir && mkdir abseqR.buildbin-libdir && /Users/biocbuild/BBS/utils/build-universal.sh abseqR_1.25.0.tar.gz /Library/Frameworks/R.framework/Resources/bin/R abseqR.buildbin-libdir StartedAt: 2025-02-20 22:09:30 -0500 (Thu, 20 Feb 2025) EndedAt: 2025-02-20 22:09:36 -0500 (Thu, 20 Feb 2025) EllapsedTime: 6.1 seconds RetCode: 0 Status: OK PackageFile: abseqR_1.25.0.tgz PackageFileSize: 2.915 MiB