Package: aCGH Version: 1.85.0 Command: /Library/Frameworks/R.framework/Resources/bin/R CMD check --install=check:aCGH.install-out.txt --library=/Library/Frameworks/R.framework/Resources/library --no-vignettes --timings aCGH_1.85.0.tar.gz StartedAt: 2025-02-19 18:45:42 -0500 (Wed, 19 Feb 2025) EndedAt: 2025-02-19 18:47:21 -0500 (Wed, 19 Feb 2025) EllapsedTime: 98.9 seconds RetCode: 0 Status: OK CheckDir: aCGH.Rcheck Warnings: 0