Package: aCGH Version: 1.85.0 Command: /Library/Frameworks/R.framework/Resources/bin/R CMD build --keep-empty-dirs --no-resave-data aCGH StartedAt: 2025-02-19 15:50:22 -0500 (Wed, 19 Feb 2025) EndedAt: 2025-02-19 15:51:00 -0500 (Wed, 19 Feb 2025) EllapsedTime: 37.8 seconds RetCode: 0 Status: OK PackageFile: aCGH_1.85.0.tar.gz PackageFileSize: 2.218 MiB