Package: aCGH Version: 1.85.0 Command: rm -rf aCGH.buildbin-libdir && mkdir aCGH.buildbin-libdir && /Users/biocbuild/BBS/utils/build-universal.sh aCGH_1.85.0.tar.gz /Library/Frameworks/R.framework/Resources/bin/R aCGH.buildbin-libdir StartedAt: 2025-02-20 00:19:44 -0500 (Thu, 20 Feb 2025) EndedAt: 2025-02-20 00:20:07 -0500 (Thu, 20 Feb 2025) EllapsedTime: 23.1 seconds RetCode: 0 Status: OK PackageFile: aCGH_1.85.0.tgz PackageFileSize: 2.496 MiB