Package: a4Reporting Version: 1.55.0 Command: rm -rf a4Reporting.buildbin-libdir && mkdir a4Reporting.buildbin-libdir && E:\biocbuild\bbs-3.21-bioc\R\bin\R.exe CMD INSTALL --build --library=a4Reporting.buildbin-libdir a4Reporting_1.55.0.tar.gz StartedAt: 2025-02-21 07:29:55 -0500 (Fri, 21 Feb 2025) EndedAt: 2025-02-21 07:30:23 -0500 (Fri, 21 Feb 2025) EllapsedTime: 28.2 seconds RetCode: 0 Status: OK PackageFile: a4Reporting_1.55.0.zip PackageFileSize: 435.1 KiB