Package: a4Reporting Version: 1.55.0 Command: /home/biocbuild/bbs-3.21-bioc/R/bin/R CMD check --install=check:a4Reporting.install-out.txt --library=/home/biocbuild/bbs-3.21-bioc/R/site-library --timings a4Reporting_1.55.0.tar.gz StartedAt: 2025-02-18 19:44:18 -0500 (Tue, 18 Feb 2025) EndedAt: 2025-02-18 19:44:36 -0500 (Tue, 18 Feb 2025) EllapsedTime: 18.0 seconds RetCode: 0 Status: OK CheckDir: a4Reporting.Rcheck Warnings: 0