Package: a4Reporting Version: 1.55.0 Command: /Library/Frameworks/R.framework/Resources/bin/R CMD INSTALL a4Reporting StartedAt: 2025-02-18 15:04:01 -0500 (Tue, 18 Feb 2025) EndedAt: 2025-02-18 15:04:50 -0500 (Tue, 18 Feb 2025) EllapsedTime: 48.8 seconds RetCode: 0 Status: OK