Package: a4Reporting Version: 1.55.0 Command: /Library/Frameworks/R.framework/Resources/bin/R CMD check --install=check:a4Reporting.install-out.txt --library=/Library/Frameworks/R.framework/Resources/library --no-vignettes --timings a4Reporting_1.55.0.tar.gz StartedAt: 2025-02-18 18:01:27 -0500 (Tue, 18 Feb 2025) EndedAt: 2025-02-18 18:01:40 -0500 (Tue, 18 Feb 2025) EllapsedTime: 13.1 seconds RetCode: 0 Status: OK CheckDir: a4Reporting.Rcheck Warnings: 0