Package: a4Reporting Version: 1.55.0 Command: /Library/Frameworks/R.framework/Resources/bin/R CMD build --keep-empty-dirs --no-resave-data a4Reporting StartedAt: 2025-02-19 15:31:29 -0500 (Wed, 19 Feb 2025) EndedAt: 2025-02-19 15:31:32 -0500 (Wed, 19 Feb 2025) EllapsedTime: 3.1 seconds RetCode: 0 Status: OK PackageFile: a4Reporting_1.55.0.tar.gz PackageFileSize: 292.9 KiB