Package: a4Preproc Version: 1.55.0 Command: /Library/Frameworks/R.framework/Resources/bin/R CMD INSTALL a4Preproc StartedAt: 2025-02-19 15:04:47 -0500 (Wed, 19 Feb 2025) EndedAt: 2025-02-19 15:05:12 -0500 (Wed, 19 Feb 2025) EllapsedTime: 25.1 seconds RetCode: 0 Status: OK