Package: a4Classif Version: 1.55.0 Command: E:\biocbuild\bbs-3.21-bioc\R\bin\R.exe CMD INSTALL a4Classif StartedAt: 2025-02-19 16:34:55 -0500 (Wed, 19 Feb 2025) EndedAt: 2025-02-19 16:35:08 -0500 (Wed, 19 Feb 2025) EllapsedTime: 13.1 seconds RetCode: 0 Status: OK