Package: a4Classif Version: 1.55.0 Command: /Library/Frameworks/R.framework/Resources/bin/R CMD INSTALL a4Classif StartedAt: 2025-02-20 15:33:01 -0500 (Thu, 20 Feb 2025) EndedAt: 2025-02-20 15:33:10 -0500 (Thu, 20 Feb 2025) EllapsedTime: 9.0 seconds RetCode: 0 Status: OK