Package: a4Classif Version: 1.55.0 Command: /Library/Frameworks/R.framework/Resources/bin/R CMD check --install=check:a4Classif.install-out.txt --library=/Library/Frameworks/R.framework/Resources/library --no-vignettes --timings a4Classif_1.55.0.tar.gz StartedAt: 2025-02-20 18:45:29 -0500 (Thu, 20 Feb 2025) EndedAt: 2025-02-20 18:47:10 -0500 (Thu, 20 Feb 2025) EllapsedTime: 101.4 seconds RetCode: 0 Status: OK CheckDir: a4Classif.Rcheck Warnings: 0