Package: a4Classif Version: 1.55.0 Command: /Library/Frameworks/R.framework/Resources/bin/R CMD build --keep-empty-dirs --no-resave-data a4Classif StartedAt: 2025-02-20 15:50:03 -0500 (Thu, 20 Feb 2025) EndedAt: 2025-02-20 15:50:36 -0500 (Thu, 20 Feb 2025) EllapsedTime: 33.3 seconds RetCode: 0 Status: OK PackageFile: a4Classif_1.55.0.tar.gz PackageFileSize: 652.6 KiB