Package: a4Classif Version: 1.55.0 Command: /Library/Frameworks/R.framework/Resources/bin/R CMD check --install=check:a4Classif.install-out.txt --library=/Library/Frameworks/R.framework/Resources/library --no-vignettes --timings a4Classif_1.55.0.tar.gz StartedAt: 2025-02-19 17:59:58 -0500 (Wed, 19 Feb 2025) EndedAt: 2025-02-19 18:00:32 -0500 (Wed, 19 Feb 2025) EllapsedTime: 34.4 seconds RetCode: 0 Status: OK CheckDir: a4Classif.Rcheck Warnings: 0