Package: a4Base Version: 1.55.0 Command: /home/biocbuild/bbs-3.21-bioc/R/bin/R CMD INSTALL a4Base StartedAt: 2025-02-20 16:01:58 -0500 (Thu, 20 Feb 2025) EndedAt: 2025-02-20 16:02:18 -0500 (Thu, 20 Feb 2025) EllapsedTime: 20.1 seconds RetCode: 0 Status: OK