Package: a4Base Version: 1.55.0 Command: /home/biocbuild/bbs-3.21-bioc/R/bin/R CMD check --install=check:a4Base.install-out.txt --library=/home/biocbuild/bbs-3.21-bioc/R/site-library --timings a4Base_1.55.0.tar.gz StartedAt: 2025-02-20 19:53:04 -0500 (Thu, 20 Feb 2025) EndedAt: 2025-02-20 19:56:08 -0500 (Thu, 20 Feb 2025) EllapsedTime: 184.4 seconds RetCode: 0 Status: OK CheckDir: a4Base.Rcheck Warnings: 0