Package: a4Base Version: 1.55.0 Command: rm -rf a4Base.buildbin-libdir && mkdir a4Base.buildbin-libdir && /Users/biocbuild/BBS/utils/build-universal.sh a4Base_1.55.0.tar.gz /Library/Frameworks/R.framework/Resources/bin/R a4Base.buildbin-libdir StartedAt: 2025-02-21 00:18:23 -0500 (Fri, 21 Feb 2025) EndedAt: 2025-02-21 00:18:55 -0500 (Fri, 21 Feb 2025) EllapsedTime: 32.2 seconds RetCode: 0 Status: OK PackageFile: a4Base_1.55.0.tgz PackageFileSize: 570.5 KiB