Package: a4 Version: 1.55.0 Command: chmod a+r a4 -R && E:\biocbuild\bbs-3.21-bioc\R\bin\R.exe CMD build --keep-empty-dirs --no-resave-data a4 StartedAt: 2025-02-19 17:09:39 -0500 (Wed, 19 Feb 2025) EndedAt: 2025-02-19 17:12:44 -0500 (Wed, 19 Feb 2025) EllapsedTime: 185.1 seconds RetCode: 0 Status: OK PackageFile: a4_1.55.0.tar.gz PackageFileSize: 1023 KiB