Package: ZygosityPredictor Version: 1.7.0 Command: /home/biocbuild/bbs-3.21-bioc/R/bin/R CMD build --keep-empty-dirs --no-resave-data ZygosityPredictor StartedAt: 2025-02-19 19:44:32 -0500 (Wed, 19 Feb 2025) EndedAt: 2025-02-19 19:45:36 -0500 (Wed, 19 Feb 2025) EllapsedTime: 63.8 seconds RetCode: 0 Status: OK PackageFile: ZygosityPredictor_1.7.0.tar.gz PackageFileSize: 823 KiB