Package: ZygosityPredictor Version: 1.7.0 Command: /Library/Frameworks/R.framework/Resources/bin/R CMD build --keep-empty-dirs --no-resave-data ZygosityPredictor StartedAt: 2025-02-19 18:40:00 -0500 (Wed, 19 Feb 2025) EndedAt: 2025-02-19 18:41:01 -0500 (Wed, 19 Feb 2025) EllapsedTime: 60.6 seconds RetCode: 0 Status: OK PackageFile: ZygosityPredictor_1.7.0.tar.gz PackageFileSize: 822.9 KiB