Package: YAPSA Version: 1.33.0 Command: /home/biocbuild/bbs-3.21-bioc/R/bin/R CMD INSTALL YAPSA StartedAt: 2025-02-21 16:28:15 -0500 (Fri, 21 Feb 2025) EndedAt: 2025-02-21 16:29:17 -0500 (Fri, 21 Feb 2025) EllapsedTime: 61.2 seconds RetCode: 0 Status: OK