Package: YAPSA Version: 1.33.0 Command: /Library/Frameworks/R.framework/Resources/bin/R CMD build --keep-empty-dirs --no-resave-data YAPSA StartedAt: 2025-02-21 17:54:25 -0500 (Fri, 21 Feb 2025) EndedAt: 2025-02-21 17:55:42 -0500 (Fri, 21 Feb 2025) EllapsedTime: 76.5 seconds RetCode: 0 Status: OK PackageFile: YAPSA_1.33.0.tar.gz PackageFileSize: 4.018 MiB