Package: Xeva Version: 1.23.1 Command: chmod a+r Xeva -R && E:\biocbuild\bbs-3.21-bioc\R\bin\R.exe CMD build --keep-empty-dirs --no-resave-data Xeva StartedAt: 2025-02-19 22:20:15 -0500 (Wed, 19 Feb 2025) EndedAt: 2025-02-19 22:22:18 -0500 (Wed, 19 Feb 2025) EllapsedTime: 123.1 seconds RetCode: 0 Status: OK PackageFile: Xeva_1.23.1.tar.gz PackageFileSize: 1.572 MiB