Package: Xeva Version: 1.23.1 Command: /Library/Frameworks/R.framework/Resources/bin/R CMD INSTALL Xeva StartedAt: 2025-02-18 15:34:50 -0500 (Tue, 18 Feb 2025) EndedAt: 2025-02-18 15:35:37 -0500 (Tue, 18 Feb 2025) EllapsedTime: 46.8 seconds RetCode: 0 Status: OK