Package: XeniumIO Version: 0.99.8 Command: E:\biocbuild\bbs-3.21-bioc\R\bin\R.exe CMD INSTALL XeniumIO StartedAt: 2025-02-21 17:05:53 -0500 (Fri, 21 Feb 2025) EndedAt: 2025-02-21 17:06:23 -0500 (Fri, 21 Feb 2025) EllapsedTime: 29.8 seconds RetCode: 0 Status: OK