Package: XeniumIO Version: 0.99.8 Command: chmod a+r XeniumIO -R && E:\biocbuild\bbs-3.21-bioc\R\bin\R.exe CMD build --keep-empty-dirs --no-resave-data XeniumIO StartedAt: 2025-02-21 23:02:32 -0500 (Fri, 21 Feb 2025) EndedAt: 2025-02-21 23:03:31 -0500 (Fri, 21 Feb 2025) EllapsedTime: 59.0 seconds RetCode: 0 Status: OK PackageFile: XeniumIO_0.99.8.tar.gz PackageFileSize: 229 KiB