############################################################################## ############################################################################## ### ### Running command: ### ### chmod a+r XeniumIO -R && E:\biocbuild\bbs-3.21-bioc\R\bin\R.exe CMD build --keep-empty-dirs --no-resave-data XeniumIO ### ############################################################################## ############################################################################## * checking for file 'XeniumIO/DESCRIPTION' ... OK * preparing 'XeniumIO': * checking DESCRIPTION meta-information ... OK * installing the package to build vignettes * creating vignettes ... OK * checking for LF line-endings in source and make files and shell scripts * checking for empty or unneeded directories * building 'XeniumIO_0.99.8.tar.gz'