Package: XeniumIO Version: 0.99.8 Command: rm -rf XeniumIO.buildbin-libdir && mkdir XeniumIO.buildbin-libdir && E:\biocbuild\bbs-3.21-bioc\R\bin\R.exe CMD INSTALL --build --library=XeniumIO.buildbin-libdir XeniumIO_0.99.8.tar.gz StartedAt: 2025-02-22 09:36:30 -0500 (Sat, 22 Feb 2025) EndedAt: 2025-02-22 09:37:05 -0500 (Sat, 22 Feb 2025) EllapsedTime: 34.5 seconds RetCode: 0 Status: OK PackageFile: XeniumIO_0.99.8.zip PackageFileSize: 277.9 KiB